BEGIN:VCALENDAR
VERSION:2.0
CALSCALE:GREGORIAN
PRODID:-//Diputació de Barcelona//DibaCMS//EN
BEGIN:VEVENT
UID:10094
DTSTAMP:20260421T222046
DTSTART:20221223T173000
DTEND:20221223T173000
SUMMARY:L'hora del Conte. 'El Nadal d'en Pere Perot'
LOCATION:Plaça de l'U d'Octubre de 2017, núm. 1 08859 Begues
METHOD:PUBLISH
X-WR-CALNAME:begues@begues.cat
X-WR-TIMEZONE:Europe/Madrid
DESCRIPTION:A la Biblioteca La Ginesta

A càrrec de l'Eva González

Per a infants a partir de quatre anys

Organitza la Biblioteca La Ginesta i la Xarxa de Biblioteques Municipals de la Diputació de Barcelona

URI:https://www.begues.cat/actualitat/agenda/lhora-del-conte-el-nadal-den-pere-perot.html
CLASS:PUBLIC
END:VEVENT
END:VCALENDAR
