BEGIN:VCALENDAR
VERSION:2.0
CALSCALE:GREGORIAN
PRODID:-//Diputació de Barcelona//DibaCMS//EN
BEGIN:VEVENT
UID:10187
DTSTAMP:20260423T020420
DTSTART:20230104T100000
DTEND:20230104T220000
SUMMARY:Recollida de paquets de Nadal
LOCATION:Avinguda Sitges, 12 08859 Begues
METHOD:PUBLISH
X-WR-CALNAME:begues@begues.cat
X-WR-TIMEZONE:Europe/Madrid
DESCRIPTION:A L'Escorxador

Organitza Joves pel Nadal

URI:https://www.begues.cat/actualitat/agenda/10187-recollida-de-paquets-de-nadal.html
CLASS:PUBLIC
END:VEVENT
END:VCALENDAR
