BEGIN:VCALENDAR
VERSION:2.0
CALSCALE:GREGORIAN
PRODID:-//Diputació de Barcelona//DibaCMS//EN
BEGIN:VEVENT
UID:10410
DTSTAMP:20260421T072902
DTSTART:20230303T193000
DTEND:20230303T193000
SUMMARY:Cicle de xerrades 'Els divendres... història'
LOCATION:Passeig de l'Església, 1 08859 Begues
METHOD:PUBLISH
X-WR-CALNAME:begues@begues.cat
X-WR-TIMEZONE:Europe/Madrid
DESCRIPTION:Al Petit Casal

El bosc proveïdor de recursos: aportacions de l'antracologia al coneixement del paisatge del Garraf durant el neolític

A càrrec de Raquel Piqué, de la Universitat Autònoma de Barcelona

Organitza el CIPAG

URI:https://www.begues.cat/actualitat/agenda/10410-cicle-de-xerrades-els-divendres-historia.html
CLASS:PUBLIC
END:VEVENT
END:VCALENDAR
