BEGIN:VCALENDAR
VERSION:2.0
CALSCALE:GREGORIAN
PRODID:-//Diputació de Barcelona//DibaCMS//EN
BEGIN:VEVENT
UID:10650
DTSTAMP:20260423T111649
DTSTART:20230422T080000
DTEND:20230422T150000
SUMMARY:Competició de judo
LOCATION:Carrer Santa Eulàlia, 10-12 08859 Begues
METHOD:PUBLISH
X-WR-CALNAME:begues@begues.cat
X-WR-TIMEZONE:Europe/Madrid
DESCRIPTION:Al Pavelló Esportiu Jaume Viñas Pi

Organitza el Club de Judo Begues

URI:https://www.begues.cat/actualitat/agenda/10650-competicio-de-judo.html
CLASS:PUBLIC
END:VEVENT
END:VCALENDAR
