BEGIN:VCALENDAR
VERSION:2.0
CALSCALE:GREGORIAN
PRODID:-//Diputació de Barcelona//DibaCMS//EN
BEGIN:VEVENT
UID:10681
DTSTAMP:20260420T164904
DTSTART:20230508T170000
DTEND:20230508T190000
SUMMARY:Tarda de jocs a la Biblioteca La Ginesta
LOCATION:Plaça de l'U d'Octubre de 2017, núm. 1 08859 Begues
METHOD:PUBLISH
X-WR-CALNAME:begues@begues.cat
X-WR-TIMEZONE:Europe/Madrid
DESCRIPTION:A la Biblioteca La Ginesta

Jocs de taula, trencaclosques i Lego

Organitza la Biblioteca La Ginesta

URI:https://www.begues.cat/actualitat/agenda/10681-tarda-de-jocs-a-la-biblioteca-la-ginesta.html
CLASS:PUBLIC
END:VEVENT
END:VCALENDAR
