BEGIN:VCALENDAR
VERSION:2.0
CALSCALE:GREGORIAN
PRODID:-//Diputació de Barcelona//DibaCMS//EN
BEGIN:VEVENT
UID:11489
DTSTAMP:20260421T233251
DTSTART:20231213T080000
DTEND:20231213T080000
SUMMARY:Sortida a Arbúcies i al Museu Etnològic
LOCATION:
METHOD:PUBLISH
X-WR-CALNAME:begues@begues.cat
X-WR-TIMEZONE:Europe/Madrid
DESCRIPTION:Sortida des del passeig de l'Església

Organitza l'associació Tot per la Gent Gran

URI:https://www.begues.cat/actualitat/agenda/sortida-a-arbucies-i-al-museu-etnologic.html
CLASS:PUBLIC
END:VEVENT
END:VCALENDAR
