BEGIN:VCALENDAR
VERSION:2.0
CALSCALE:GREGORIAN
PRODID:-//Diputació de Barcelona//DibaCMS//EN
BEGIN:VEVENT
UID:12448
DTSTAMP:20260420T095842
DTSTART:20240915T113000
DTEND:20240915T130000
SUMMARY:Jugatecambiental. Art rupestre
LOCATION:Carrer Camp dels Prats / Avinguda Costeta 08859 Begues
METHOD:PUBLISH
X-WR-CALNAME:begues@begues.cat
X-WR-TIMEZONE:Europe/Madrid
DESCRIPTION:Al parc de la Costeta

Aprendrem història natural a través d'un taller creatiu

URI:https://www.begues.cat/actualitat/agenda/12448-jugatecambiental-art-rupestre.html
CLASS:PUBLIC
END:VEVENT
END:VCALENDAR
