BEGIN:VCALENDAR
VERSION:2.0
CALSCALE:GREGORIAN
PRODID:-//Diputació de Barcelona//DibaCMS//EN
BEGIN:VEVENT
UID:12507
DTSTAMP:20260422T085843
DTSTART:20240926T083000
DTEND:20240926T130000
SUMMARY:Dia Internacional de la Gent Gran - Visita a la Casa Vicens
LOCATION:Plaça de l'U d'Octubre de 2017, núm. 1 08859 Begues
METHOD:PUBLISH
X-WR-CALNAME:begues@begues.cat
X-WR-TIMEZONE:Europe/Madrid
DESCRIPTION:Sortida en autocar des del Centre Cívic El Roure

Visita guiada a la Casa Vicens, d'Antoni Gaudí, i pel barri de Gràcia

Sortida gratuïta

Places exhaurides

URI:https://www.begues.cat/actualitat/agenda/dia-internacional-de-la-gent-gran-visita-a-la-casa-vicens.html
CLASS:PUBLIC
END:VEVENT
END:VCALENDAR
