BEGIN:VCALENDAR
VERSION:2.0
CALSCALE:GREGORIAN
PRODID:-//Diputació de Barcelona//DibaCMS//EN
BEGIN:VEVENT
UID:12560
DTSTAMP:20260423T094732
DTSTART:20241013T113000
DTEND:20241013T130000
SUMMARY:Jugatecambiental. Safari fotogràfic
LOCATION:Carrer Camp dels Prats / Avinguda Costeta 08859 Begues
METHOD:PUBLISH
X-WR-CALNAME:begues@begues.cat
X-WR-TIMEZONE:Europe/Madrid
DESCRIPTION:Al parc de la Costeta

Qui capturarà més racons emblemàtics del parc? Porta càmera o mòbil per fer fotografies

URI:https://www.begues.cat/actualitat/agenda/jugatecambiental-safari-fotografic.html
CLASS:PUBLIC
END:VEVENT
END:VCALENDAR
