BEGIN:VCALENDAR
VERSION:2.0
CALSCALE:GREGORIAN
PRODID:-//Diputació de Barcelona//DibaCMS//EN
BEGIN:VEVENT
UID:12655
DTSTAMP:20260420T045646
DTSTART:20241019T151500
DTEND:20241019T151500
SUMMARY:Bàsquet masculí. CB Begues - CB Sitges B
LOCATION:Carrer Santa Eulàlia, 10-12 08859 Begues
METHOD:PUBLISH
X-WR-CALNAME:begues@begues.cat
X-WR-TIMEZONE:Europe/Madrid
DESCRIPTION:Al Pavelló Municipal Jaume Viñas Pi

Partit sènior masculí entre el CB Begues i el Club Bàsquet Sitges B

URI:https://www.begues.cat/actualitat/agenda/basquet-masculi-cb-begues-cb-sitges-b.html
CLASS:PUBLIC
END:VEVENT
END:VCALENDAR
