BEGIN:VCALENDAR
VERSION:2.0
CALSCALE:GREGORIAN
PRODID:-//Diputació de Barcelona//DibaCMS//EN
BEGIN:VEVENT
UID:12664
DTSTAMP:20260423T120451
DTSTART:20241106T173000
DTEND:20241106T173000
SUMMARY:Taller familiar. Missió Apol·lo
LOCATION:Plaça de l'U d'Octubre de 2017, núm. 1 08859 Begues
METHOD:PUBLISH
X-WR-CALNAME:begues@begues.cat
X-WR-TIMEZONE:Europe/Madrid
DESCRIPTION:A la Biblioteca La Ginesta

A càrrec d'Univers Quark

Experimentem amb la gravetat i coneixem les missions especials dels astronautes. Construïm i enlairem un coet dins la Biblioteca

Per a infants a partir de set anys

Cal inscripció

URI:https://www.begues.cat/actualitat/agenda/taller-familiar-missio-apollo.html
CLASS:PUBLIC
END:VEVENT
END:VCALENDAR
