BEGIN:VCALENDAR
VERSION:2.0
CALSCALE:GREGORIAN
PRODID:-//Diputació de Barcelona//DibaCMS//EN
BEGIN:VEVENT
UID:12741
DTSTAMP:20260419T211754
DTSTART:20241123T090000
DTEND:20241123T090000
SUMMARY:Un dolmen al Campgràs - Passejades pel Parc Prehistòric Cova Can Sadurní
LOCATION:
METHOD:PUBLISH
X-WR-CALNAME:begues@begues.cat
X-WR-TIMEZONE:Europe/Madrid
DESCRIPTION:Lloc de trobada, el Pla de Querol

Cal reservar plaça a covacansadurni@gmail.com
Grups màxims de 25 persones per torn

Preu per a persones adultes: 3 €
Preu per a persones de 6 a 12 anys: 2 €
Gratuït per a infants menors de 6 anys

Organitzen el CIPAG i l'Ajuntament de Begues

URI:https://www.begues.cat/actualitat/agenda/12741-un-dolmen-al-campgras-passejades-pel-parc-prehistoric-cova-can-sadurni.html
CLASS:PUBLIC
END:VEVENT
END:VCALENDAR
