BEGIN:VCALENDAR
VERSION:2.0
CALSCALE:GREGORIAN
PRODID:-//Diputació de Barcelona//DibaCMS//EN
BEGIN:VEVENT
UID:12823
DTSTAMP:20260426T002622
DTSTART:20241210T091500
DTEND:20241210T091500
SUMMARY:Sortida al museu i mines de Gavà
LOCATION:
METHOD:PUBLISH
X-WR-CALNAME:begues@begues.cat
X-WR-TIMEZONE:Europe/Madrid
DESCRIPTION:Sortida des de davant l'Església de Sant Cristòfol

Activitat gratuïta

Inscripcions, el 3 de desembre al Centre Cívic El Roure

Organitza Associació Tot per la Gent Gran

URI:https://www.begues.cat/actualitat/agenda/sortida-al-museu-i-mines-de-gava.html
CLASS:PUBLIC
END:VEVENT
END:VCALENDAR
