BEGIN:VCALENDAR
VERSION:2.0
CALSCALE:GREGORIAN
PRODID:-//Diputació de Barcelona//DibaCMS//EN
BEGIN:VEVENT
UID:12953
DTSTAMP:20260422T100613
DTSTART:20250119T000000
DTEND:20250119T050000
SUMMARY:Festa Major d'Hivern - Música amb el grup de versions Waikiki i el DJ Pablo
LOCATION:Carrer Santa Eulàlia, 10-12 08859 Begues
METHOD:PUBLISH
X-WR-CALNAME:begues@begues.cat
X-WR-TIMEZONE:Europe/Madrid
DESCRIPTION:Al Pavelló Esportiu Jaume Viñas Pi

URI:https://www.begues.cat/actualitat/agenda/festa-major-dhivern-musica-amb-el-grup-de-versions-waikiki-i-el-dj-pablo.html
CLASS:PUBLIC
END:VEVENT
END:VCALENDAR
