BEGIN:VCALENDAR
VERSION:2.0
CALSCALE:GREGORIAN
PRODID:-//Diputació de Barcelona//DibaCMS//EN
BEGIN:VEVENT
UID:13286
DTSTAMP:20260421T181604
DTSTART:20250406T100000
DTEND:20250406T140000
SUMMARY:Mercat d'Oficis Artístics i Artesania
LOCATION:
METHOD:PUBLISH
X-WR-CALNAME:begues@begues.cat
X-WR-TIMEZONE:Europe/Madrid
DESCRIPTION:Al passeig de l'Església.

Venda d'artesania, demostracions i artistes convidats.

Organitzen els Artesans de Begues.

URI:https://www.begues.cat/actualitat/agenda/13286-mercat-doficis-artistics-i-artesania.html
CLASS:PUBLIC
END:VEVENT
END:VCALENDAR
