BEGIN:VCALENDAR
VERSION:2.0
CALSCALE:GREGORIAN
PRODID:-//Diputació de Barcelona//DibaCMS//EN
BEGIN:VEVENT
UID:13586
DTSTAMP:20260423T122744
DTSTART:20250614T180000
DTEND:20250614T180000
SUMMARY: El Ferret. Ruta guiada per l'itinerari del carst
LOCATION:Camí de Can Sadurní, s/n 08859 Begues
METHOD:PUBLISH
X-WR-CALNAME:begues@begues.cat
X-WR-TIMEZONE:Europe/Madrid
DESCRIPTION:Lloc de trobada, aparcament de la masia Can Sadurní.

Cal reservar plaça a info@covacansadurnibegues.cat.

Preus: 12 €. Gratuït per als infants fins a set anys.

Organitzen el CIPAG i l'Ajuntament de Begues.

URI:https://www.begues.cat/actualitat/agenda/13586--el-ferret-ruta-guiada-per-litinerari-del-carst.html
CLASS:PUBLIC
END:VEVENT
END:VCALENDAR
