BEGIN:VCALENDAR
VERSION:2.0
CALSCALE:GREGORIAN
PRODID:-//Diputació de Barcelona//DibaCMS//EN
BEGIN:VEVENT
UID:13864
DTSTAMP:20260423T095158
DTSTART:20250927T100000
DTEND:20250927T140000
SUMMARY:Inscripcions a la Caminada per l'ELA
LOCATION:
METHOD:PUBLISH
X-WR-CALNAME:begues@begues.cat
X-WR-TIMEZONE:Europe/Madrid
DESCRIPTION:Davant Cal Pere Vell.

Carpa informativa per a inscriure's a la Caminada per l'ELA que tindrà lloc el 4 d'octubre.
Preu de la inscripció + samarreta: 5 euros.

La recaptació es destina a la Fundació Miquel Valls.

Organitzen l'Ajuntament de Begues i el col·lectiu Salta per l'ELA, amb la participació de voluntariat local.

URI:https://www.begues.cat/actualitat/agenda/13864-inscripcions-a-la-caminada-per-lela.html
CLASS:PUBLIC
END:VEVENT
END:VCALENDAR
