BEGIN:VCALENDAR
VERSION:2.0
CALSCALE:GREGORIAN
PRODID:-//Diputació de Barcelona//DibaCMS//EN
BEGIN:VEVENT
UID:14398
DTSTAMP:20260426T031448
DTSTART:20260120T193000
DTEND:20260120T193000
SUMMARY:Festa Major d'Hivern - Sardinada popular
LOCATION:Carrer Santa Eulàlia, 10-12 08859 Begues
METHOD:PUBLISH
X-WR-CALNAME:begues@begues.cat
X-WR-TIMEZONE:Europe/Madrid
DESCRIPTION:Al Pavelló Esportiu Jaume Viñas Pi

Amenitzada pel grup d'havaneres La Petita Havana

Organitza l'Ajuntament de Begues, amb la col·laboració del CF Begues

URI:https://www.begues.cat/actualitat/agenda/14398-festa-major-dhivern-sardinada-popular.html
CLASS:PUBLIC
END:VEVENT
END:VCALENDAR
