BEGIN:VCALENDAR
VERSION:2.0
CALSCALE:GREGORIAN
PRODID:-//Diputació de Barcelona//DibaCMS//EN
BEGIN:VEVENT
UID:14411
DTSTAMP:20260426T031557
DTSTART:20260122T180000
DTEND:20260122T200000
SUMMARY:Activitat jove. Tarda de cuina
LOCATION:Carrer Vallirana, s/n (Al costat de la Piscina Municipal) 08859 Begues
METHOD:PUBLISH
X-WR-CALNAME:begues@begues.cat
X-WR-TIMEZONE:Europe/Madrid
DESCRIPTION:Al Fixu

Fem piruletes de formatge

URI:https://www.begues.cat/actualitat/agenda/activitat-jove-tarda-de-cuina.html
CLASS:PUBLIC
END:VEVENT
END:VCALENDAR
