BEGIN:VCALENDAR
VERSION:2.0
CALSCALE:GREGORIAN
PRODID:-//Diputació de Barcelona//DibaCMS//EN
BEGIN:VEVENT
UID:14412
DTSTAMP:20260426T022143
DTSTART:20260130T180000
DTEND:20260130T200000
SUMMARY:Activitat jove. Tarda de tennis taula
LOCATION:Carrer Vallirana, s/n (Al costat de la Piscina Municipal) 08859 Begues
METHOD:PUBLISH
X-WR-CALNAME:begues@begues.cat
X-WR-TIMEZONE:Europe/Madrid
DESCRIPTION:Al Fixu

URI:https://www.begues.cat/actualitat/agenda/activitat-jove-tarda-de-tennis-taula.html
CLASS:PUBLIC
END:VEVENT
END:VCALENDAR
