BEGIN:VCALENDAR
VERSION:2.0
CALSCALE:GREGORIAN
PRODID:-//Diputació de Barcelona//DibaCMS//EN
BEGIN:VEVENT
UID:14428
DTSTAMP:20260426T031837
DTSTART:20260126T103000
DTEND:20260126T130000
SUMMARY:Oficina Mòbil d'Atenció al Consumidor
LOCATION:
METHOD:PUBLISH
X-WR-CALNAME:begues@begues.cat
X-WR-TIMEZONE:Europe/Madrid
DESCRIPTION:Al passeig de l'Església

Per atendre consultes i oferir informació sobre temes de consum

URI:https://www.begues.cat/actualitat/agenda/14428-oficina-mobil-datencio-al-consumidor.html
CLASS:PUBLIC
END:VEVENT
END:VCALENDAR
