BEGIN:VCALENDAR
VERSION:2.0
CALSCALE:GREGORIAN
PRODID:-//Diputació de Barcelona//DibaCMS//EN
BEGIN:VEVENT
UID:14543
DTSTAMP:20260423T105914
DTSTART:20260306T194500
DTEND:20260306T194500
SUMMARY:8M - Esport en femení. Totes juguem
LOCATION:Carrer Santa Eulàlia, 10-12 08859 Begues
METHOD:PUBLISH
X-WR-CALNAME:begues@begues.cat
X-WR-TIMEZONE:Europe/Madrid
DESCRIPTION:Al Pavelló Esportiu Jaume Viñas Pi

Partit obert de bàsquet per a dones

Organitza el CB Begues

URI:https://www.begues.cat/actualitat/agenda/8m-esport-en-femeni-totes-juguem.html
CLASS:PUBLIC
END:VEVENT
END:VCALENDAR
