BEGIN:VCALENDAR
VERSION:2.0
CALSCALE:GREGORIAN
PRODID:-//Diputació de Barcelona//DibaCMS//EN
BEGIN:VEVENT
UID:14633
DTSTAMP:20260421T101330
DTSTART:20260314T150000
DTEND:20260314T150000
SUMMARY:Rugbi masculí. Begues Lions - Osona RC
LOCATION:Carrer de Jaume Petit, 11 Porta A 08859 Begues
METHOD:PUBLISH
X-WR-CALNAME:begues@begues.cat
X-WR-TIMEZONE:Europe/Madrid
DESCRIPTION:Al Camp Municipal d'Esports

Partit sènior corresponent a la Segona Catalana

URI:https://www.begues.cat/actualitat/agenda/rugbi-masculi-begues-lions-osona-rc.html
CLASS:PUBLIC
END:VEVENT
END:VCALENDAR
