BEGIN:VCALENDAR
VERSION:2.0
CALSCALE:GREGORIAN
PRODID:-//Diputació de Barcelona//DibaCMS//EN
BEGIN:VEVENT
UID:14759
DTSTAMP:20260422T100430
DTSTART:20260418T183000
DTEND:20260418T183000
SUMMARY:Bàsquet masculí. CB Begues B - AP Stucom B
LOCATION:Carrer Santa Eulàlia, 10-12 08859 Begues
METHOD:PUBLISH
X-WR-CALNAME:begues@begues.cat
X-WR-TIMEZONE:Europe/Madrid
DESCRIPTION:Al Pavelló Municipal Jaume Viñas Pi.

Partit sènior corresponent a la fase regular de Tercera Territorial, grup 4

URI:https://www.begues.cat/actualitat/agenda/basquet-masculi-cb-begues-b-ap-stucom-b.html
CLASS:PUBLIC
END:VEVENT
END:VCALENDAR
