BEGIN:VCALENDAR
VERSION:2.0
CALSCALE:GREGORIAN
PRODID:-//Diputació de Barcelona//DibaCMS//EN
BEGIN:VEVENT
UID:14770
DTSTAMP:20260421T163357
DTSTART:20260425T183000
DTEND:20260425T183000
SUMMARY:Futbol masculí. CF Begues - CE Olivella
LOCATION:Carrer Esports, 4 08859 Begues
METHOD:PUBLISH
X-WR-CALNAME:begues@begues.cat
X-WR-TIMEZONE:Europe/Madrid
DESCRIPTION:Al Camp Municipal d'Esports

Partit corresponent al grup 13 de Tercera Catalana

URI:https://www.begues.cat/actualitat/agenda/14770-futbol-masculi-cf-begues-ce-olivella.html
CLASS:PUBLIC
END:VEVENT
END:VCALENDAR
