BEGIN:VCALENDAR
VERSION:2.0
CALSCALE:GREGORIAN
PRODID:-//Diputació de Barcelona//DibaCMS//EN
BEGIN:VEVENT
UID:14776
DTSTAMP:20260423T142530
DTSTART:20260509T200000
DTEND:20260509T200000
SUMMARY:Espectacle musical. Nit d'espelmes
LOCATION:Plaça de l'U d'Octubre de 2017, núm. 1 08859 Begues
METHOD:PUBLISH
X-WR-CALNAME:begues@begues.cat
X-WR-TIMEZONE:Europe/Madrid
DESCRIPTION:Al Teatre El Goula

Recital d'Anna d'Ivori

Entrades a la venda al web del Centre Cívic El Roure

URI:https://www.begues.cat/actualitat/agenda/espectacle-musical-nit-despelmes.html
CLASS:PUBLIC
END:VEVENT
END:VCALENDAR
