BEGIN:VCALENDAR
VERSION:2.0
CALSCALE:GREGORIAN
PRODID:-//Diputació de Barcelona//DibaCMS//EN
BEGIN:VEVENT
UID:14777
DTSTAMP:20260423T151143
DTSTART:20260510T113000
DTEND:20260510T133000
SUMMARY:Jugatecambiental. De gota en gota
LOCATION:Carrer Camp dels Prats / Avinguda Costeta 08859 Begues
METHOD:PUBLISH
X-WR-CALNAME:begues@begues.cat
X-WR-TIMEZONE:Europe/Madrid
DESCRIPTION:Al parc de la Costeta

Noves pràctiques per evitar el malbaratament de l'aigua

URI:https://www.begues.cat/actualitat/agenda/14777-jugatecambiental-de-gota-en-gota.html
CLASS:PUBLIC
END:VEVENT
END:VCALENDAR
