BEGIN:VCALENDAR
VERSION:2.0
CALSCALE:GREGORIAN
PRODID:-//Diputació de Barcelona//DibaCMS//EN
BEGIN:VEVENT
UID:8118
DTSTAMP:20260423T142551
DTSTART:20210509T120000
DTEND:20210509T120000
SUMMARY:Espectacle musical. 'Atmosferes'
LOCATION:Carretera del Ratpenat a la Plana Novella , Km 6,5 08859 Begues
METHOD:PUBLISH
X-WR-CALNAME:begues@begues.cat
X-WR-TIMEZONE:Europe/Madrid
DESCRIPTION:Al Centre Experimental de les Arts de Vallgrassa

A càrrec d'Arturo Blasco i Laly Rodríguez.

URI:https://www.begues.cat/actualitat/agenda/espectacle-musical-atmosferes.html
CLASS:PUBLIC
END:VEVENT
END:VCALENDAR
