BEGIN:VCALENDAR
VERSION:2.0
CALSCALE:GREGORIAN
PRODID:-//Diputació de Barcelona//DibaCMS//EN
BEGIN:VEVENT
UID:8690
DTSTAMP:20260420T154540
DTSTART:20211130T173000
DTEND:20211130T173000
SUMMARY:Taller infantil: elaboració d'un atrapasomnis
LOCATION:Plaça de l'U d'Octubre de 2017, núm. 1 08859 Begues
METHOD:PUBLISH
X-WR-CALNAME:begues@begues.cat
X-WR-TIMEZONE:Europe/Madrid
DESCRIPTION:A la Biblioteca La Ginesta.

Elaboració d'un atrapasomnis amb llana de colors i diferents materials.

Cal inscripció.

URI:https://www.begues.cat/actualitat/agenda/taller-infantil-elaboracio-dun-atrapasomnis.html
CLASS:PUBLIC
END:VEVENT
END:VCALENDAR
