BEGIN:VCALENDAR
VERSION:2.0
CALSCALE:GREGORIAN
PRODID:-//Diputació de Barcelona//DibaCMS//EN
BEGIN:VEVENT
UID:9388
DTSTAMP:20260421T225848
DTSTART:20220301T000000
DTEND:20220531T000000
SUMMARY:Exposició col·lectiva 'Anant i mirant. Imaginari per a un repertori'
LOCATION:Plaça de l'U d'Octubre de 2017, núm. 1 08859 Begues
METHOD:PUBLISH
X-WR-CALNAME:begues@begues.cat
X-WR-TIMEZONE:Europe/Madrid
DESCRIPTION:A l'Espai Expositiu Lina Font

Exposició col·lectiva de pintures inspirades en les cançons del cantant i músic alguerès Claudio Gabriel Sanna

URI:https://www.begues.cat/actualitat/agenda/exposicio-collectiva-anant-i-mirant-imaginari-per-a-un-repertori.html
CLASS:PUBLIC
END:VEVENT
END:VCALENDAR
