BEGIN:VCALENDAR
VERSION:2.0
CALSCALE:GREGORIAN
PRODID:-//Diputació de Barcelona//DibaCMS//EN
BEGIN:VEVENT
UID:9869
DTSTAMP:20260421T212314
DTSTART:20221021T173000
DTEND:20221021T173000
SUMMARY:Activitat familiar per conèixer el món de les abelles
LOCATION:Plaça de l'U d'Octubre de 2017, núm. 1 08859 Begues
METHOD:PUBLISH
X-WR-CALNAME:begues@begues.cat
X-WR-TIMEZONE:Europe/Madrid
DESCRIPTION:A la Biblioteca La Ginesta

A càrrec del Rusc d’Or de Begues

Organitza la Biblioteca La Ginesta i la Xarxa de Biblioteques Municipals de la Diputació de Barcelona

URI:https://www.begues.cat/actualitat/agenda/activitat-familiar-per-coneixer-el-mon-de-les-abelles.html
CLASS:PUBLIC
END:VEVENT
END:VCALENDAR
