BEGIN:VCALENDAR
VERSION:2.0
CALSCALE:GREGORIAN
PRODID:-//Diputació de Barcelona//DibaCMS//EN
BEGIN:VEVENT
UID:9963
DTSTAMP:20260419T210044
DTSTART:20221108T173000
DTEND:20221108T173000
SUMMARY:Taller familiar d'Scratch per aprendre a programar 
LOCATION:Plaça de l'U d'Octubre de 2017, núm. 1 08859 Begues
METHOD:PUBLISH
X-WR-CALNAME:begues@begues.cat
X-WR-TIMEZONE:Europe/Madrid
DESCRIPTION:A la Biblioteca La Ginesta

Labs connecta’t: Aprèn programació jugant, per a infants a partir de 9 anys
Inscripcions a bibliotecalaginesta.cat a partir de dilluns 31 d’octubre a les 15.30 h

Amb motiu de la Setmana de la Ciència

Organitza la Biblioteca La Ginesta i la Xarxa de Biblioteques Municipals de la Diputació de Barcelona

URI:https://www.begues.cat/actualitat/agenda/taller-familiar-dscratch-per-aprendre-a-programar-.html
CLASS:PUBLIC
END:VEVENT
END:VCALENDAR
